BEGIN:VCALENDAR
VERSION:2.0
PRODID:-//https://www.ischiaeventi.it///NONSGML kigkonsult.se iCalcreator 2.10.15//
METHOD:PUBLISH
BEGIN:VEVENT
UID:20260422T211558UTC-5080I3DI3T@https://www.ischiaeventi.it/
DTSTAMP:20260422T211558Z
DESCRIPTION:Sessione aperta di tiro con l'arco degustazioni delle specialit
 à del Telese Grafico open day! https://www.ischiaeventi.it/calendario/even
 to/249439-aperitiro-al-telese
DTSTART:20260122T150000Z
DTEND:20260122T170000Z
LOCATION:Istituto Professionale di stato 'Vincenzo Telese' (Via Fondo Bosso
 \, 1\, 80077 Ischia NA\, Italia)
SUMMARY:Aperitiro al Telese
URL:https://www.ischiaeventi.it/calendario/evento/249439-aperitiro-al-teles
 e
END:VEVENT
END:VCALENDAR
