BEGIN:VCALENDAR
VERSION:2.0
PRODID:-//https://www.ischiaeventi.it///NONSGML kigkonsult.se iCalcreator 2.10.15//
METHOD:PUBLISH
BEGIN:VEVENT
UID:20260423T120245UTC-6990cFxWUD@https://www.ischiaeventi.it/
DTSTAMP:20260423T120245Z
DESCRIPTION:Ore 20.30 Sul Sagrato della Chiesa Parrocchiale: Gaetano Maschi
 o nella Canzolata 'IN...pacchettata': tombola cantata con premi\, sorprese
  e divertimento. Con la partecipazione di Elisabetta Maschio. Al piano il 
 M. Silvano Trani. Stand gastronomico a cura dell'equipe parrocchiale. http
 s://www.ischiaeventi.it/calendario/evento/249909-festeggiamenti-in-onore-d
 i-san-francesco-di-paola-canzolata-in-pacchettata
DTSTART:20260502T183000Z
DTEND:20260502T203000Z
LOCATION:Santuario di San Francesco di Paola  (Via Tommaso Cigliano\, 144\,
  80075 Forio NA\, Italy)
SUMMARY:Festeggiamenti in onore di San Francesco di Paola: Canzolata 'IN...
 pacchettata'
URL:https://www.ischiaeventi.it/calendario/evento/249909-festeggiamenti-in-
 onore-di-san-francesco-di-paola-canzolata-in-pacchettata
END:VEVENT
END:VCALENDAR
