BEGIN:VCALENDAR
VERSION:2.0
PRODID:-//https://www.ischiaeventi.it///NONSGML kigkonsult.se iCalcreator 2.10.15//
METHOD:PUBLISH
BEGIN:VEVENT
UID:20260424T142908UTC-8604evacIH@https://www.ischiaeventi.it/
DTSTAMP:20260424T142908Z
DESCRIPTION:X EDIZIONE25/26 APRILE 2026PROGRAMMA EVENTIPIAZZALE DEL SOCCORS
 O\, FORIOORE 12:00 PARTENZA SCHERIA CUP 24 - XSDOMENICA 26BANCHINA MARINA 
 DI FORIODALLE 11 ALLE 16: FESTA DELLA VELA LNI ISCHIASTAND ASSOCIAZIONI TE
 RRITORIALIIN COLLABORAZIONE CON EVENTO 'BENVENUTA PRIMAVERA'MUSICHE 'TRIO 
 FLEGREO' DENIS TRANI - chitarra e voce\, LEONARDO SCOTTI DI MONACO - tambu
 ri e coro\,DANIELE UBJK - fiato e coroORE 11:30 CONVEGNO'MARE DI LEGALITA'
  e ELICHE RESPONSABILI❞ STANI VERDE - sindaco di ForioArch. GIOVANNANGELO 
 DE ANGELIS- pres. LNI Ischia Dott. PASQUALE OROFINO - pres. V Zona FIV Amm
 .glio MAURIZIO TROGU - delegato regionale LNI Dott.ssa BARBARA APREA - mag
 istratoGià Cap. GIUSY PASCARELLA - C.L.CProf.ssa GIUSEPPINA DI GUIDA - dir
 igente scolastico Dott. FILIPPO D'ARRIGO - istruttore Mascalzone Latino Av
 v. DARIO DI NAPOLI - consigliere segretario LNI Napoli Giorgio Mulazzani v
 icepres. LNI BacoliProf. FRANCESCO SCHILLIRO' - vicepres. Panathlon Italia
  Modera: Claudio lacono - - giornalistaORE 13:00 APERTURA STAND BRUNCH DI 
 MARE *A CURA DI GOURMET IN MOVIMENTO CATERING* 6€ a pasto/bevanda - 15 € c
 arnet 2 piatti + 1 bevandaORE 15:00 PREMIAZIONI https://www.ischiaeventi.i
 t/calendario/evento/249912-scheriacup-x-edizione
DTSTART:20260425T100000Z
DTEND:20260425T130000Z
LOCATION:Piazzale del Soccorso (Via del Soccorso\, 6\, 80075 Forio NA\, Ita
 lia)
SUMMARY:ScheriaCup X edizione
URL:https://www.ischiaeventi.it/calendario/evento/249912-scheriacup-x-edizi
 one
END:VEVENT
END:VCALENDAR
