BEGIN:VCALENDAR
VERSION:2.0
PRODID:-//https://www.ischiaeventi.it///NONSGML kigkonsult.se iCalcreator 2.10.15//
METHOD:PUBLISH
BEGIN:VEVENT
UID:20260424T162701UTC-6030fcnsjV@https://www.ischiaeventi.it/
DTSTAMP:20260424T162701Z
DESCRIPTION:Ischia e la modalità sostenibile https://www.ischiaeventi.it/ca
 lendario/evento/29823-ischia-e-la-modalita-sostenibile
DTSTART:20240524T130000Z
DTEND:20240524T170000Z
LOCATION:Villa Arbusto (Corso Angelo Rizzoli\, 194\, 80076 Lacco Ameno NA\,
  Italia)
SUMMARY:Ischia e la modalità sostenibile
URL:https://www.ischiaeventi.it/calendario/evento/29823-ischia-e-la-modalit
 a-sostenibile
END:VEVENT
END:VCALENDAR
