BEGIN:VCALENDAR
VERSION:2.0
PRODID:-//https://www.ischiaeventi.it///NONSGML kigkonsult.se iCalcreator 2.10.15//
METHOD:PUBLISH
BEGIN:VEVENT
UID:20260423T182732UTC-9413VHfuLT@https://www.ischiaeventi.it/
DTSTAMP:20260423T182732Z
DESCRIPTION:Solenne Processione Penitenziale con la venerata immagine di Ma
 ria SS. Addolorata per le strade di Forio.La processione farà rientro per 
 via Casa di Maio. https://www.ischiaeventi.it/component/rseventspro/evento
 /249730-copia-da-solenne-settenario-in-onore-di-maria-ss-ma-addolorata?Ite
 mid=467
DTSTART:20260327T100000Z
DTEND:20260327T123000Z
LOCATION:Forio d’Ischia (80075 Forio NA\, Italia)
SUMMARY:Copia da Solenne settenario in onore di Maria SS.ma Addolorata
URL:https://www.ischiaeventi.it/component/rseventspro/evento/249730-copia-d
 a-solenne-settenario-in-onore-di-maria-ss-ma-addolorata?Itemid=467
END:VEVENT
END:VCALENDAR
