BEGIN:VCALENDAR
VERSION:2.0
PRODID:-//https://www.ischiaeventi.it///NONSGML kigkonsult.se iCalcreator 2.10.15//
METHOD:PUBLISH
BEGIN:VEVENT
UID:20260422T121156UTC-7540RgNdEg@https://www.ischiaeventi.it/
DTSTAMP:20260422T121156Z
DESCRIPTION:Con il patrocinio del comune di Forio presentaForio in Fiore'St
 orie di ginestre\, malve e cannaffere'XXIII EDIZIONESABATO 25 APRILE 2026 
 ORE 18:00nei pressi della fontana a piazza Matteotti - ForioSfilata della 
 banda musicale della città di Forio Allestimenti di composizioni florealiS
 alotto nel verde a cura delle prof. Anna Capodanno e Rosa CaliseEsibizione
  del corpo di ballo della scuola 'Magia della danza' di Mary Sportiellocon
  la straordinaria partecipazione di Miss Ischia Elisabet Viktoria Ruzhyla 
 Accompagnamento musicale di Denis Trani e Ivan Matarese https://www.ischia
 eventi.it/component/rseventspro/evento/249897-forio-in-fiore-storie-di-gin
 estre-malve-e-cannaffere?Itemid=101
DTSTART:20260425T160000Z
DTEND:20260425T180000Z
LOCATION:Piazza Giacomo Matteotti (80075 Forio NA\, Italia)
SUMMARY:Forio in Fiore 'Storie di ginestre\, malve e cannaffere'
URL:https://www.ischiaeventi.it/component/rseventspro/evento/249897-forio-i
 n-fiore-storie-di-ginestre-malve-e-cannaffere?Itemid=101
END:VEVENT
END:VCALENDAR
