BEGIN:VCALENDAR
VERSION:2.0
PRODID:-//https://www.ischiaeventi.it///NONSGML kigkonsult.se iCalcreator 2.10.15//
METHOD:PUBLISH
BEGIN:VEVENT
UID:20260423T142659UTC-17065jLIKE@https://www.ischiaeventi.it/
DTSTAMP:20260423T142659Z
DESCRIPTION:Ore 19.00 Processione della venerata immagine di San Francesco 
 di Paola con la partecipazione dell'associazione musicale 'Papa Giovanni X
 XIII' della Città di Forio per Via Tommaso Cigliano\, Via Aiemita e Via Fo
 rtino\, Via Spine Sante e ritorno. Al Fortino e alla Chiaia spettacolo pir
 otecnico in onore del gran Santo. Cerimonia di suffragio e omaggio ai cadu
 ti in mare con offerta della corona d'alloro al monumento A.N.M.I.In chies
 a bacio della reliquia. https://www.ischiaeventi.it/component/rseventspro/
 evento/249910-festeggiamenti-in-onore-di-san-francesco-di-paola-procession
 e?Itemid=467
DTSTART:20260503T170000Z
DTEND:20260503T183000Z
LOCATION:Santuario di San Francesco di Paola  (Via Tommaso Cigliano\, 144\,
  80075 Forio NA\, Italy)
SUMMARY:Festeggiamenti in onore di San Francesco di Paola: Processione 
URL:https://www.ischiaeventi.it/component/rseventspro/evento/249910-festegg
 iamenti-in-onore-di-san-francesco-di-paola-processione?Itemid=467
END:VEVENT
END:VCALENDAR
