BEGIN:VCALENDAR
VERSION:2.0
PRODID:-//https://www.ischiaeventi.it///NONSGML kigkonsult.se iCalcreator 2.10.15//
METHOD:PUBLISH
BEGIN:VEVENT
UID:20260423T214633UTC-1747nlnxzV@https://www.ischiaeventi.it/
DTSTAMP:20260423T214633Z
DESCRIPTION:La mostra è visitabile dal martedì alla domenica dalle 19.00 al
 le 24.00\, i quadri in esposizione sono disponibili per eventuali acquisti
 . https://www.ischiaeventi.it/component/rseventspro/evento/29115-mostra-fo
 tografica-punti-di-vista?Itemid=101
DTSTART;VALUE=DATE:20240329
LOCATION:Kiwi Jam (Via Luigi Mazzella\, 42\, 80077 Ischia NA\, Italia)
SUMMARY:Mostra fotografica punti di vista
URL:https://www.ischiaeventi.it/component/rseventspro/evento/29115-mostra-f
 otografica-punti-di-vista?Itemid=101
END:VEVENT
END:VCALENDAR
