BEGIN:VCALENDAR
VERSION:2.0
PRODID:-//https://www.ischiaeventi.it///NONSGML kigkonsult.se iCalcreator 2.10.15//
METHOD:PUBLISH
BEGIN:VEVENT
UID:20260423T184836UTC-5998HbsbKD@https://www.ischiaeventi.it/
DTSTAMP:20260423T184836Z
DESCRIPTION:Concerto Mattutino in Piazza diretto dal M° Giovanni Migliaccio
 . Al Pace insiera coi FiglioOre 18\,45 PROCESSIONE PER LE STRADE DEL PAESE
 \nUno spettacolo pirotecnico saluterà l’arrivo inPiazza della statua.\nOre
  22\,00 Spettacolo al Piazzale Pablo Neruda (sotto la Torre).“PAOLO BELLI 
 Big Band” in concerto\, a cura del Comune di Serrara Fontana. https://www.
 ischiaeventi.it/component/rseventspro/evento/32959-festeggiamenti-in-onore
 -di-san-michele-arcangelo?Itemid=101
DTSTART:20240929T100000Z
DTEND:20240929T213000Z
LOCATION:Piazza Sant'Angelo  (80070 Serrara Fontana NA\, Italia)
SUMMARY:Festeggiamenti in onore di San Michele Arcangelo
URL:https://www.ischiaeventi.it/component/rseventspro/evento/32959-festeggi
 amenti-in-onore-di-san-michele-arcangelo?Itemid=101
END:VEVENT
END:VCALENDAR
