BEGIN:VCALENDAR
VERSION:2.0
PRODID:-//https://www.ischiaeventi.it///NONSGML kigkonsult.se iCalcreator 2.10.15//
METHOD:PUBLISH
BEGIN:VEVENT
UID:20260423T184712UTC-71459V5ra0@https://www.ischiaeventi.it/
DTSTAMP:20260423T184712Z
DESCRIPTION:Wedding cafè in concerto con i migliori successi italiani e int
 ernazionali https://www.ischiaeventi.it/component/rseventspro/evento/33143
 -wedding-cafe?Itemid=101
DTSTART:20240928T190000Z
DTEND:20240928T210000Z
LOCATION:Borgo di Sant'Angelo (Via Nazario Sauro\, Sant'angelo NA\, Italia)
SUMMARY:Wedding Cafè
URL:https://www.ischiaeventi.it/component/rseventspro/evento/33143-wedding-
 cafe?Itemid=101
END:VEVENT
END:VCALENDAR
