BEGIN:VCALENDAR
VERSION:2.0
PRODID:-//https://www.ischiaeventi.it///NONSGML kigkonsult.se iCalcreator 2.10.15//
METHOD:PUBLISH
BEGIN:VEVENT
UID:20260424T172408UTC-7859O7x9pf@https://www.ischiaeventi.it/
DTSTAMP:20260424T172408Z
DESCRIPTION:Presentazione del libro di Gea Palumbo Ricominciamo dai nomi\,&
 nbsp\;dai miti e dalle fonti nei secoli https://www.ischiaeventi.it/en/cal
 endar/event/249178-presentation-of-gea-palumbos-book-ricominciamo-dai-nomi
 -dai-miti-e-dalle-fonti-nei-secoli
DTSTART:20251203T160000Z
DTEND:20251203T180000Z
LOCATION:Biblioteca Antoniana (Rampe S.Antonio\, 5\, 80077 - Ischia)
SUMMARY:Presentation of Gea Palumbo’s book Ricominciamo dai nomi\, dai miti
  e dalle fonti nei secoli
URL:https://www.ischiaeventi.it/en/calendar/event/249178-presentation-of-ge
 a-palumbos-book-ricominciamo-dai-nomi-dai-miti-e-dalle-fonti-nei-secoli
END:VEVENT
END:VCALENDAR
