BEGIN:VCALENDAR
VERSION:2.0
PRODID:-//https://www.ischiaeventi.it///NONSGML kigkonsult.se iCalcreator 2.10.15//
METHOD:PUBLISH
BEGIN:VEVENT
UID:20260424T172239UTC-2959kIhn3V@https://www.ischiaeventi.it/
DTSTAMP:20260424T172239Z
DESCRIPTION:Conference organized by Marianna Polverino https://www.ischiaev
 enti.it/en/calendar/event/249180-christmas-at-the-antoniana-conference-org
 anized-by-marianna-polverino
DTSTART:20251209T080000Z
DTEND:20251209T110000Z
LOCATION:Biblioteca Antoniana (Rampe S.Antonio\, 5\, 80077 - Ischia)
SUMMARY:Christmas at the Antoniana: Conference organized by Marianna Polver
 ino
URL:https://www.ischiaeventi.it/en/calendar/event/249180-christmas-at-the-a
 ntoniana-conference-organized-by-marianna-polverino
END:VEVENT
END:VCALENDAR
