BEGIN:VCALENDAR
VERSION:2.0
PRODID:-//https://www.ischiaeventi.it///NONSGML kigkonsult.se iCalcreator 2.10.15//
METHOD:PUBLISH
BEGIN:VEVENT
UID:20260424T172253UTC-2225bAm114@https://www.ischiaeventi.it/
DTSTAMP:20260424T172253Z
DESCRIPTION:Inauguration of the giocoLIBERO play areacurated by Marco Corte
 se (open until January 6)\n https://www.ischiaeventi.it/en/calendar/event/
 249181-christmas-at-the-antoniana-book-presentation-by-anna-pilato---il-re
 galo
DTSTART:20251209T163000Z
DTEND:20251209T180000Z
LOCATION:Biblioteca Antoniana (Rampe S.Antonio\, 5\, 80077 - Ischia)
SUMMARY:Christmas at the Antoniana: Book Presentation by Anna Pilato – Il r
 egalo
URL:https://www.ischiaeventi.it/en/calendar/event/249181-christmas-at-the-a
 ntoniana-book-presentation-by-anna-pilato---il-regalo
END:VEVENT
END:VCALENDAR
