BEGIN:VCALENDAR
VERSION:2.0
PRODID:-//https://www.ischiaeventi.it///NONSGML kigkonsult.se iCalcreator 2.10.15//
METHOD:PUBLISH
BEGIN:VEVENT
UID:20260424T171857UTC-0254zD0BR8@https://www.ischiaeventi.it/
DTSTAMP:20260424T171857Z
DESCRIPTION:Book Presentation&nbsp\;by Giuliana Covella – Open Your Eyes&nb
 sp\;(FIDAPA – Ischia Section)\n https://www.ischiaeventi.it/en/calendar/ev
 ent/249183-christmas-at-the-antoniana-book-presentation
DTSTART:20251212T163000Z
DTEND:20251212T180000Z
LOCATION:Biblioteca Antoniana (Rampe S.Antonio\, 5\, 80077 - Ischia)
SUMMARY:Christmas at the Antoniana: Book Presentation
URL:https://www.ischiaeventi.it/en/calendar/event/249183-christmas-at-the-a
 ntoniana-book-presentation
END:VEVENT
END:VCALENDAR
