BEGIN:VCALENDAR
VERSION:2.0
PRODID:-//https://www.ischiaeventi.it///NONSGML kigkonsult.se iCalcreator 2.10.15//
METHOD:PUBLISH
BEGIN:VEVENT
UID:20260424T171621UTC-3105Rrw4oZ@https://www.ischiaeventi.it/
DTSTAMP:20260424T171621Z
DESCRIPTION:Book Presentationby Mariafelicia Carraturo – Il risveglio di Pa
 rtenope: luce nell'abisso\n https://www.ischiaeventi.it/en/calendar/event/
 249184-christmas-at-the-antoniana-book-presentation-by-mariafelicia-carrat
 uro
DTSTART:20251217T170000Z
DTEND:20251217T180000Z
LOCATION:Biblioteca Antoniana (Rampe S.Antonio\, 5\, 80077 - Ischia)
SUMMARY:Christmas at the Antoniana: Book Presentation by Mariafelicia Carra
 turo
URL:https://www.ischiaeventi.it/en/calendar/event/249184-christmas-at-the-a
 ntoniana-book-presentation-by-mariafelicia-carraturo
END:VEVENT
END:VCALENDAR
