BEGIN:VCALENDAR
VERSION:2.0
PRODID:-//https://www.ischiaeventi.it///NONSGML kigkonsult.se iCalcreator 2.10.15//
METHOD:PUBLISH
BEGIN:VEVENT
UID:20260424T171619UTC-4746JlNtG7@https://www.ischiaeventi.it/
DTSTAMP:20260424T171619Z
DESCRIPTION:Flamma repente: earthquakes\, landslides\, and eruptions in Isc
 hia from the Neolithic to the Greek period\nInstitutional greetings:Lucia 
 AnnicelliDirector of the Biblioteca Comunale Antoniana\nCaterina MazzellaP
 resident of the Parco Culturale Ischia\nSpeaker:Mariangela CatuognoArchaeo
 logist https://www.ischiaeventi.it/en/calendar/event/249576-flamma-repente
 -earthquakes-landslides-and-eruptions-in-ischia-from-the-neolithic-to-the-
 greek-period
DTSTART:20260227T170000Z
DTEND:20260227T190000Z
LOCATION:Biblioteca Antoniana (Rampe S.Antonio\, 5\, 80077 - Ischia)
SUMMARY:Flamma repente: earthquakes\, landslides\, and eruptions in Ischia 
 from the Neolithic to the Greek period
URL:https://www.ischiaeventi.it/en/calendar/event/249576-flamma-repente-ear
 thquakes-landslides-and-eruptions-in-ischia-from-the-neolithic-to-the-gree
 k-period
END:VEVENT
END:VCALENDAR
