BEGIN:VCALENDAR
VERSION:2.0
PRODID:-//https://www.ischiaeventi.it///NONSGML kigkonsult.se iCalcreator 2.10.15//
METHOD:PUBLISH
BEGIN:VEVENT
UID:20260423T214056UTC-6465z9HKUD@https://www.ischiaeventi.it/
DTSTAMP:20260423T214056Z
DESCRIPTION:Artificial Intelligence in the Tourism Sector\nSpeaker: Prof. M
 auro SciarelliCourse Coordinator in Business Economics\, UNINA Federico II
 \nCONFERENCE HALL IPS 'V. TELESE' ISCHIAMARCH 9\, 202610:30 AMFREE ADMISSI
 ON https://www.ischiaeventi.it/en/calendar/event/249614-artificial-intelli
 gence-in-the-tourism-sector
DTSTART:20260309T093000Z
DTEND:20260309T120000Z
LOCATION:IPS 'Vincenzo Telese' (Via Fondo Bosso\, 3\, 80077 Ischia NA\, Ita
 lia)
SUMMARY:Artificial Intelligence in the Tourism Sector
URL:https://www.ischiaeventi.it/en/calendar/event/249614-artificial-intelli
 gence-in-the-tourism-sector
END:VEVENT
END:VCALENDAR
