BEGIN:VCALENDAR
VERSION:2.0
PRODID:-//https://www.ischiaeventi.it///NONSGML kigkonsult.se iCalcreator 2.10.15//
METHOD:PUBLISH
BEGIN:VEVENT
UID:20260424T171328UTC-2018uVH00D@https://www.ischiaeventi.it/
DTSTAMP:20260424T171328Z
DESCRIPTION:Tea with Agatha Christie50 years after her passing\, we celebra
 te Agatha Christie with readings\, literary discussions\, and a tea inspir
 ed by 1930s England.\nMarch 12 – 5:30 PMBiblioteca Antoniana https://www.i
 schiaeventi.it/en/calendar/event/249671-tea-with-agatha-christie
DTSTART:20260312T163000Z
DTEND:20260312T180000Z
LOCATION:Biblioteca Antoniana (Rampe S.Antonio\, 5\, 80077 - Ischia)
SUMMARY:Tea with Agatha Christie
URL:https://www.ischiaeventi.it/en/calendar/event/249671-tea-with-agatha-ch
 ristie
END:VEVENT
END:VCALENDAR
