BEGIN:VCALENDAR
VERSION:2.0
PRODID:-//https://www.ischiaeventi.it///NONSGML kigkonsult.se iCalcreator 2.10.15//
METHOD:PUBLISH
BEGIN:VEVENT
UID:20260423T202041UTC-0129exVrMa@https://www.ischiaeventi.it/
DTSTAMP:20260423T202041Z
DESCRIPTION:Stations of the Cross through the Saracen Alleyways https://www
 .ischiaeventi.it/en/calendar/event/249690-solemn-seven-day-devotion-in-hon
 or-of-our-lady-of-sorrows
DTSTART:20260324T183000Z
DTEND:20260324T203000Z
LOCATION:Forio d’Ischia (80075 Forio NA\, Italia)
SUMMARY:Solemn Seven-Day Devotion in Honor of Our Lady of Sorrows
URL:https://www.ischiaeventi.it/en/calendar/event/249690-solemn-seven-day-d
 evotion-in-honor-of-our-lady-of-sorrows
END:VEVENT
END:VCALENDAR
