BEGIN:VCALENDAR
VERSION:2.0
PRODID:-//https://www.ischiaeventi.it///NONSGML kigkonsult.se iCalcreator 2.10.15//
METHOD:PUBLISH
BEGIN:VEVENT
UID:20260422T231349UTC-9407aXNU96@https://www.ischiaeventi.it/
DTSTAMP:20260422T231349Z
DESCRIPTION:Two days dedicated to the warm season\, the community\, and the
  traditions of our territory.\nLeisure time\, sports\, entertainment\, and
  activities for children\, along with local craft markets and stands featu
 ring traditional products\, to enjoy festive moments filled with colors\, 
 flavors\, and fun.\nApril 26 – ForioMay 10 – Panza\nAn opportunity to come
  together\, highlight local communities\, and celebrate the arrival of spr
 ing with activities for all ages.\n—\nWe look forward to seeing you and sh
 aring two festive days together\, among sea\, nature\, and traditions! htt
 ps://www.ischiaeventi.it/en/calendar/event/249906-welcome-spring
DTSTART;VALUE=DATE:20260510
LOCATION:Comune di Forio (Piazza Municipio\, 1\, 80075 Forio NA\, Italia)
SUMMARY:Welcome Spring
URL:https://www.ischiaeventi.it/en/calendar/event/249906-welcome-spring
END:VEVENT
END:VCALENDAR
