BEGIN:VCALENDAR
VERSION:2.0
PRODID:-//https://www.ischiaeventi.it///NONSGML kigkonsult.se iCalcreator 2.10.15//
METHOD:PUBLISH
BEGIN:VEVENT
UID:20260423T123734UTC-6221T31dEZ@https://www.ischiaeventi.it/
DTSTAMP:20260423T123734Z
DESCRIPTION:Live concert by Valentina Canale\, group dances organized by Gi
 anni Canale https://www.ischiaeventi.it/en/calendar/event/249908-live-conc
 ert-valentina-canale
DTSTART:20260425T190000Z
DTEND:20260425T203000Z
LOCATION:Comune di Barano (Via Corrado Buono\, 6\, 80070 Barano D'ischia NA
 \, Italia)
SUMMARY:Live concert Valentina Canale
URL:https://www.ischiaeventi.it/en/calendar/event/249908-live-concert-valen
 tina-canale
END:VEVENT
END:VCALENDAR
