BEGIN:VCALENDAR
VERSION:2.0
PRODID:-//https://www.ischiaeventi.it///NONSGML kigkonsult.se iCalcreator 2.10.15//
METHOD:PUBLISH
BEGIN:VEVENT
UID:20260423T123749UTC-9584zuSVG7@https://www.ischiaeventi.it/
DTSTAMP:20260423T123749Z
DESCRIPTION:8:30 PM – On the forecourt of the Parish Church: Gaetano Maschi
 o presents the Canzolata “IN...pacchettata” – a musical bingo with prizes\
 , surprises\, and entertainment. Featuring Elisabetta Maschio. Piano accom
 paniment by Maestro Silvano Trani. Food stand organized by the parish team
 . https://www.ischiaeventi.it/en/calendar/event/249909-celebrations-in-hon
 or-of-saint-francis-of-paola-canzolata-in-pacchettata
DTSTART:20260502T183000Z
DTEND:20260502T203000Z
LOCATION:Santuario di San Francesco di Paola  (Via Tommaso Cigliano\, 144\,
  80075 Forio NA\, Italy)
SUMMARY:Celebrations in honor of Saint Francis of Paola: Canzolata “IN...pa
 cchettata”
URL:https://www.ischiaeventi.it/en/calendar/event/249909-celebrations-in-ho
 nor-of-saint-francis-of-paola-canzolata-in-pacchettata
END:VEVENT
END:VCALENDAR
