BEGIN:VCALENDAR
VERSION:2.0
PRODID:-//https://www.ischiaeventi.it///NONSGML kigkonsult.se iCalcreator 2.10.15//
METHOD:PUBLISH
BEGIN:VEVENT
UID:20260424T171857UTC-1576EuTRTd@https://www.ischiaeventi.it/
DTSTAMP:20260424T171857Z
DESCRIPTION:Roberta Tondelli: Tutta 'a vita affacciata all'ammore https://w
 ww.ischiaeventi.it/en/calendar/event/30776-roberta-tondelli-tutta-a-vita-a
 ffacciata-allammore
DTSTART:20240620T160000Z
DTEND:20240620T180000Z
LOCATION:Biblioteca Antoniana (Rampe S.Antonio\, 5\, 80077 - Ischia)
SUMMARY:Roberta Tondelli: Tutta 'a vita affacciata all'ammore
URL:https://www.ischiaeventi.it/en/calendar/event/30776-roberta-tondelli-tu
 tta-a-vita-affacciata-allammore
END:VEVENT
END:VCALENDAR
