BEGIN:VCALENDAR
VERSION:2.0
PRODID:-//https://www.ischiaeventi.it///NONSGML kigkonsult.se iCalcreator 2.10.15//
METHOD:PUBLISH
BEGIN:VEVENT
UID:20260424T002109UTC-8041490ZiJ@https://www.ischiaeventi.it/
DTSTAMP:20260424T002109Z
DESCRIPTION:La mostra è visitabile dal martedì alla domenica dalle 19.00 al
 le 24.00\, i quadri in esposizione sono disponibili per eventuali acquisti
 . https://www.ischiaeventi.it/en/component/rseventspro/event/29089-mostra-
 fotografica-punti-di-vista?Itemid=428
DTSTART;VALUE=DATE:20240304
LOCATION:Kiwi Jam (Via Luigi Mazzella\, 42\, 80077 Ischia NA\, Italia)
SUMMARY:Mostra fotografica punti di vista
URL:https://www.ischiaeventi.it/en/component/rseventspro/event/29089-mostra
 -fotografica-punti-di-vista?Itemid=428
END:VEVENT
END:VCALENDAR
