BEGIN:VCALENDAR
VERSION:2.0
PRODID:-//https://www.ischiaeventi.it///NONSGML kigkonsult.se iCalcreator 2.10.15//
METHOD:PUBLISH
BEGIN:VEVENT
UID:20260424T012700UTC-2914PVpLzw@https://www.ischiaeventi.it/
DTSTAMP:20260424T012700Z
DESCRIPTION:Fave e ventresca paesane https://www.ischiaeventi.it/en/compone
 nt/rseventspro/event/29353-fave-e-ventresca-paesane?Itemid=428
DTSTART:20240427T180000Z
DTEND:20240427T214500Z
LOCATION:Panza (Piazza San Leonardo - 80075 Panza Forio)
SUMMARY:Fave e ventresca paesane
URL:https://www.ischiaeventi.it/en/component/rseventspro/event/29353-fave-e
 -ventresca-paesane?Itemid=428
END:VEVENT
END:VCALENDAR
