BEGIN:VCALENDAR
VERSION:2.0
PRODID:-//https://www.ischiaeventi.it///NONSGML kigkonsult.se iCalcreator 2.10.15//
METHOD:PUBLISH
BEGIN:VEVENT
UID:20260424T002207UTC-0143H43v6G@https://www.ischiaeventi.it/
DTSTAMP:20260424T002207Z
DESCRIPTION:92^ edizione della festa a mare agli scogli di Sant'Anna\nPrefe
 sta tra poesia e musica • Sfilata delle barche allegoriche • Spettacolo di
  fuochi piotecnici • Incendio del castello • Ospiti e divertimento https:/
 /www.ischiaeventi.it/en/component/rseventspro/event/31290-festa-a-mare-agl
 i-scogli-di-santanna?Itemid=428
DTSTART;VALUE=DATE:20240726
LOCATION:Borgo di Ischia Ponte (Piazzale Aragonese\, 1\, 80077 Ischia\, Nap
 les\, Italy)
SUMMARY:Festa a mare agli scogli di Sant'Anna
URL:https://www.ischiaeventi.it/en/component/rseventspro/event/31290-festa-
 a-mare-agli-scogli-di-santanna?Itemid=428
END:VEVENT
END:VCALENDAR
