BEGIN:VCALENDAR
VERSION:2.0
PRODID:-//https://www.ischiaeventi.it///NONSGML kigkonsult.se iCalcreator 2.10.15//
METHOD:PUBLISH
BEGIN:VEVENT
UID:20260424T012650UTC-5702I2Os6B@https://www.ischiaeventi.it/
DTSTAMP:20260424T012650Z
DESCRIPTION:Sabato ritorna la Pinetella\, il tempio del revival  https://ww
 w.ischiaeventi.it/en/component/rseventspro/event/31866-la-pinetella?Itemid
 =428
DTSTART:20240824T180000Z
DTEND:20240824T215900Z
LOCATION:Pineta di Fiaiano (Via Montagna\, 73\, 80077 Ischia NA\, Italia)
SUMMARY:La Pinetella
URL:https://www.ischiaeventi.it/en/component/rseventspro/event/31866-la-pin
 etella?Itemid=428
END:VEVENT
END:VCALENDAR
