BEGIN:VCALENDAR
VERSION:2.0
PRODID:-//https://www.ischiaeventi.it///NONSGML kigkonsult.se iCalcreator 2.10.15//
METHOD:PUBLISH
BEGIN:VEVENT
UID:20260424T003425UTC-40964uMpib@https://www.ischiaeventi.it/
DTSTAMP:20260424T003425Z
DESCRIPTION:Umberto Broccoli racconta la Villa La Colombaia di Luchino Visc
 onti\n31 agosto ore 20:00\nPrenotazione obbligatoria fino a esaurimento po
 sti scrivendo a beniculturali@comune.forio.na.it https://www.ischiaeventi.
 it/en/component/rseventspro/event/31902-umberto-broccoli-racconta-la-villa
 -la-colombaia-di-luchino-visconti?Itemid=428
DTSTART:20240831T180000Z
DTEND:20240831T203000Z
LOCATION:La Colombaia (Via Francesco Calise\, 130\, 80075 Forio NA\, Italia
 )
SUMMARY:Umberto Broccoli racconta la Villa La Colombaia di Luchino Visconti
URL:https://www.ischiaeventi.it/en/component/rseventspro/event/31902-umbert
 o-broccoli-racconta-la-villa-la-colombaia-di-luchino-visconti?Itemid=428
END:VEVENT
END:VCALENDAR
