BEGIN:VCALENDAR
VERSION:2.0
PRODID:-//https://www.ischiaeventi.it///NONSGML kigkonsult.se iCalcreator 2.10.15//
METHOD:PUBLISH
BEGIN:VEVENT
UID:20260424T012758UTC-9184w4VpM9@https://www.ischiaeventi.it/
DTSTAMP:20260424T012758Z
DESCRIPTION:Preparazione e Degustazione in Piazza del Coniglio all'Ischitan
 a\, durante la raccolta dell'uva la sfilata delle Damigelle con l'elezione
  di MISS UVA 2024 \nOre 21:00Concerto degli Audio2Durante lo spettacolo si
  potrnno degustare il CONIGLIO ALL'ISCHITANA e le tipiche SALSICCE ISOLANE
  con INSALATA DI VENDEMMIA. https://www.ischiaeventi.it/en/component/rseve
 ntspro/event/32307-festa-delluva?Itemid=428
DTSTART:20240913T153000Z
DTEND:20240913T200000Z
LOCATION:Villa Campagnano (Via Campagnano\, 61\, 80077 Ischia NA\, Italia)
SUMMARY:Festa dell'uva
URL:https://www.ischiaeventi.it/en/component/rseventspro/event/32307-festa-
 delluva?Itemid=428
END:VEVENT
END:VCALENDAR
