BEGIN:VCALENDAR
VERSION:2.0
PRODID:-//https://www.ischiaeventi.it///NONSGML kigkonsult.se iCalcreator 2.10.15//
METHOD:PUBLISH
BEGIN:VEVENT
UID:20260424T110432UTC-85047u4sj2@https://www.ischiaeventi.it/
DTSTAMP:20260424T110432Z
DESCRIPTION:ISCHIA GOSPEL con Aurelio PITINO https://www.ischiaeventi.it/ev
 enti-ad-ischia/cultura/architettura/evento/249027-natale-a-casamicciola-is
 chia-gospel
DTSTART:20251227T180000Z
DTEND:20251227T205300Z
LOCATION:Chiesa parrocchiale Santa Maria Maddalena (Via Giuseppe Garibaldi\
 , 80074 Casamicciola Terme NA\, Italia)
SUMMARY:Natale a Casamicciola: ISCHIA GOSPEL
URL:https://www.ischiaeventi.it/eventi-ad-ischia/cultura/architettura/event
 o/249027-natale-a-casamicciola-ischia-gospel
END:VEVENT
END:VCALENDAR
