BEGIN:VCALENDAR
VERSION:2.0
PRODID:-//https://www.ischiaeventi.it///NONSGML kigkonsult.se iCalcreator 2.10.15//
METHOD:PUBLISH
BEGIN:VEVENT
UID:20260421T021347UTC-1268DMsarE@https://www.ischiaeventi.it/
DTSTAMP:20260421T021347Z
DESCRIPTION:Il FantaNatale 2025 ANIMAZIONE PER BAMBINI a cura di Fantasilan
 dia https://www.ischiaeventi.it/eventi-ad-ischia/cultura/architettura/even
 to/249226-natale-a-barano-il-fantanatale-2025
DTSTART:20251220T093000Z
DTEND:20251220T120000Z
LOCATION:Piazza San Rocco (Via Provinciale Luigi Scotti\, 80070 Barano NA\,
  Italia)
SUMMARY:Natale a Barano:  Il FantaNatale 2025 
URL:https://www.ischiaeventi.it/eventi-ad-ischia/cultura/architettura/event
 o/249226-natale-a-barano-il-fantanatale-2025
END:VEVENT
END:VCALENDAR
