BEGIN:VCALENDAR
VERSION:2.0
PRODID:-//https://www.ischiaeventi.it///NONSGML kigkonsult.se iCalcreator 2.10.15//
METHOD:PUBLISH
BEGIN:VEVENT
UID:20260421T023147UTC-25294ZFS5w@https://www.ischiaeventi.it/
DTSTAMP:20260421T023147Z
DESCRIPTION:Franco Ricciardi Je Tour in Piazzale Maronti https://www.ischia
 eventi.it/eventi-ad-ischia/cultura/architettura/evento/30953-franco-riccia
 rdi-je-tour
DTSTART:20240629T190000Z
DTEND:20240629T213000Z
LOCATION:Piazza Maronti (Via Provinciale Maronti\, 80070 Barano D'ischia NA
 \, Italia)
SUMMARY:Franco Ricciardi Je Tour
URL:https://www.ischiaeventi.it/eventi-ad-ischia/cultura/architettura/event
 o/30953-franco-ricciardi-je-tour
END:VEVENT
END:VCALENDAR
