BEGIN:VCALENDAR
VERSION:2.0
PRODID:-//https://www.ischiaeventi.it///NONSGML kigkonsult.se iCalcreator 2.10.15//
METHOD:PUBLISH
BEGIN:VEVENT
UID:20260421T021325UTC-98719Ecf8n@https://www.ischiaeventi.it/
DTSTAMP:20260421T021325Z
DESCRIPTION:Festeggiamenti in onore di Sant'Alfonso https://www.ischiaevent
 i.it/eventi-ad-ischia/cultura/architettura/evento/31604-festeggiamenti-in-
 onore-di-santalfonso
DTSTART:20240804T193000Z
DTEND:20240804T214900Z
LOCATION:Vatoliere (Via Vateliero\, 80070 Barano D'ischia NA\, Italia)
SUMMARY:Festeggiamenti in onore di Sant'Alfonso
URL:https://www.ischiaeventi.it/eventi-ad-ischia/cultura/architettura/event
 o/31604-festeggiamenti-in-onore-di-santalfonso
END:VEVENT
END:VCALENDAR
