BEGIN:VCALENDAR
VERSION:2.0
PRODID:-//https://www.ischiaeventi.it///NONSGML kigkonsult.se iCalcreator 2.10.15//
METHOD:PUBLISH
BEGIN:VEVENT
UID:20260424T110906UTC-5319zolWhV@https://www.ischiaeventi.it/
DTSTAMP:20260424T110906Z
DESCRIPTION:Sentinella in festa: con Alessandro Bolide\, made in Sud https:
 //www.ischiaeventi.it/eventi-ad-ischia/cultura/architettura/evento/31838-s
 entinella-in-festa-con-alessandro-bolide
DTSTART:20240820T193000Z
DTEND:20240820T215900Z
LOCATION: Sentinella  (Via Castanito\, 80074 Casamicciola Terme NA\, Italia
 )
SUMMARY:Sentinella in festa: con Alessandro Bolide
URL:https://www.ischiaeventi.it/eventi-ad-ischia/cultura/architettura/event
 o/31838-sentinella-in-festa-con-alessandro-bolide
END:VEVENT
END:VCALENDAR
