BEGIN:VCALENDAR
VERSION:2.0
PRODID:-//https://www.ischiaeventi.it///NONSGML kigkonsult.se iCalcreator 2.10.15//
METHOD:PUBLISH
BEGIN:VEVENT
UID:20260424T125854UTC-5894fwH6lm@https://www.ischiaeventi.it/
DTSTAMP:20260424T125854Z
DESCRIPTION:Concerto di Natale delle Officine Creative di Cordate Vocali Ch
 iesa del Buon Consiglio https://www.ischiaeventi.it/eventi-ad-ischia/cultu
 ra/architettura/evento/38443-natale-a-casamicciola-oh-happy-day
DTSTART:20241221T180000Z
DTEND:20241221T200000Z
LOCATION:Chiesa del Buon Consiglio (Corso Luigi Manzi\, 5\, 80074 Casamicci
 ola Terme NA\, Italia)
SUMMARY:Natale a Casamicciola: 'OH HAPPY DAY!'
URL:https://www.ischiaeventi.it/eventi-ad-ischia/cultura/architettura/event
 o/38443-natale-a-casamicciola-oh-happy-day
END:VEVENT
END:VCALENDAR
