BEGIN:VCALENDAR
VERSION:2.0
PRODID:-//https://www.ischiaeventi.it///NONSGML kigkonsult.se iCalcreator 2.10.15//
METHOD:PUBLISH
BEGIN:VEVENT
UID:20260420T155452UTC-66012dmPot@https://www.ischiaeventi.it/
DTSTAMP:20260420T155452Z
DESCRIPTION:10.30 Alla Pagoda: Commemorazione dell'ingresso di N.S. a Gerus
 alemme\, Benedizione delle Palme e Processione\, con il 'saluto' delle nav
 i\, fino alla Riva Destra e al rientro in Chiesa https://www.ischiaeventi.
 it/eventi-ad-ischia/cultura/dibattiti-ed-incontri-culturali/evento/249780-
 pasqua-a-ischia-benedizione-delle-palme-alla-pagoda
DTSTART:20260329T083000Z
DTEND:20260329T113000Z
LOCATION:Pineta Pagoda (Via delle Fornaci\, 7\, 80077 Ischia NA\, Italia)
SUMMARY:Pasqua a Ischia: Benedizione delle Palme alla pagoda
URL:https://www.ischiaeventi.it/eventi-ad-ischia/cultura/dibattiti-ed-incon
 tri-culturali/evento/249780-pasqua-a-ischia-benedizione-delle-palme-alla-p
 agoda
END:VEVENT
END:VCALENDAR
