BEGIN:VCALENDAR
VERSION:2.0
PRODID:-//https://www.ischiaeventi.it///NONSGML kigkonsult.se iCalcreator 2.10.15//
METHOD:PUBLISH
BEGIN:VEVENT
UID:20260420T204353UTC-8308c87Ps6@https://www.ischiaeventi.it/
DTSTAMP:20260420T204353Z
DESCRIPTION:ore 20.00 Via Crucis cittadina presieduta dal Vescovo Carlo dal
 la Chiesa dello Spirito Santo alla Chiesa di S. Pietro https://www.ischiae
 venti.it/eventi-ad-ischia/cultura/dibattiti-ed-incontri-culturali/evento/2
 49784-pasqua-a-ischia-via-crucis
DTSTART:20260403T180000Z
DTEND:20260403T203000Z
LOCATION:San Ciro (Via delle Terme\, 44\, 80077 Ischia NA\, Italia)
SUMMARY:Pasqua a Ischia: via crucis
URL:https://www.ischiaeventi.it/eventi-ad-ischia/cultura/dibattiti-ed-incon
 tri-culturali/evento/249784-pasqua-a-ischia-via-crucis
END:VEVENT
END:VCALENDAR
