BEGIN:VCALENDAR
VERSION:2.0
PRODID:-//https://www.ischiaeventi.it///NONSGML kigkonsult.se iCalcreator 2.10.15//
METHOD:PUBLISH
BEGIN:VEVENT
UID:20260424T122446UTC-0395V5j2Td@https://www.ischiaeventi.it/
DTSTAMP:20260424T122446Z
DESCRIPTION:Gran galà di pattinaggio artistico https://www.ischiaeventi.it/
 eventi-ad-ischia/cultura/dibattiti-ed-incontri-culturali/evento/30748-gran
 -gala-di-pattinaggio-artistico-carrambaaa-che-serata
DTSTART:20240702T190000Z
DTEND:20240702T214900Z
LOCATION:Palazzetto dello Sport Ischia (Via Fondo Bosso\, 8\, 80077 Ischia 
 NA\, Italia)
SUMMARY:Gran galà di pattinaggio artistico: carrambaaa che serata
URL:https://www.ischiaeventi.it/eventi-ad-ischia/cultura/dibattiti-ed-incon
 tri-culturali/evento/30748-gran-gala-di-pattinaggio-artistico-carrambaaa-c
 he-serata
END:VEVENT
END:VCALENDAR
