BEGIN:VCALENDAR
VERSION:2.0
PRODID:-//https://www.ischiaeventi.it///NONSGML kigkonsult.se iCalcreator 2.10.15//
METHOD:PUBLISH
BEGIN:VEVENT
UID:20260424T115850UTC-5875vuPULx@https://www.ischiaeventi.it/
DTSTAMP:20260424T115850Z
DESCRIPTION:&nbsp\;Brunch in piazza https://www.ischiaeventi.it/eventi-ad-i
 schia/cultura/dibattiti-ed-incontri-culturali/evento/35836-natale-a-ischia
 -brunch-in-piazza
DTSTART:20241231T110000Z
DTEND:20241231T140000Z
LOCATION:Via Roma (Via Roma\, 80077 Ischia NA\, Italia)
SUMMARY:Natale a Ischia: Brunch in piazza
URL:https://www.ischiaeventi.it/eventi-ad-ischia/cultura/dibattiti-ed-incon
 tri-culturali/evento/35836-natale-a-ischia-brunch-in-piazza
END:VEVENT
END:VCALENDAR
