BEGIN:VCALENDAR
VERSION:2.0
PRODID:-//https://www.ischiaeventi.it///NONSGML kigkonsult.se iCalcreator 2.10.15//
METHOD:PUBLISH
BEGIN:VEVENT
UID:20260420T222419UTC-697456gRP1@https://www.ischiaeventi.it/
DTSTAMP:20260420T222419Z
DESCRIPTION:Coro piccoli Cantores con la partecipazione del Coro Giovani ca
 ntores e del Coro Cantores. Direttore Arianna Bosco\nLetture di Odilia Tel
 ese https://www.ischiaeventi.it/eventi-ad-ischia/cultura/dibattiti-ed-inco
 ntri-culturali/evento/36007-voci-per-santa-cecilia
DTSTART:20241123T180000Z
DTEND:20241123T200000Z
LOCATION:Diocesi di Ischia (Via Seminario\, 13\, 80077 Ischia NA\, Italia)
SUMMARY:Voci per Santa Cecilia
URL:https://www.ischiaeventi.it/eventi-ad-ischia/cultura/dibattiti-ed-incon
 tri-culturali/evento/36007-voci-per-santa-cecilia
END:VEVENT
END:VCALENDAR
