BEGIN:VCALENDAR
VERSION:2.0
PRODID:-//https://www.ischiaeventi.it///NONSGML kigkonsult.se iCalcreator 2.10.15//
METHOD:PUBLISH
BEGIN:VEVENT
UID:20260424T120329UTC-1735PgANrB@https://www.ischiaeventi.it/
DTSTAMP:20260424T120329Z
DESCRIPTION:Spettacoli ore 11:00\, 17:00 e 18:40&nbsp\; Cartoon live! https
 ://www.ischiaeventi.it/eventi-ad-ischia/cultura/dibattiti-ed-incontri-cult
 urali/evento/45432-lo-spettacolo-delle-mascotte-dal-vivo
DTSTART:20250330T093000Z
DTEND:20250330T170000Z
LOCATION:Centro Parrocchiale San Pietro ( Via Colonna Vittoria\, 196\, 8007
 7 Ischia NA)
SUMMARY:Lo spettacolo delle mascotte dal vivo 
URL:https://www.ischiaeventi.it/eventi-ad-ischia/cultura/dibattiti-ed-incon
 tri-culturali/evento/45432-lo-spettacolo-delle-mascotte-dal-vivo
END:VEVENT
END:VCALENDAR
