BEGIN:VCALENDAR
VERSION:2.0
PRODID:-//https://www.ischiaeventi.it///NONSGML kigkonsult.se iCalcreator 2.10.15//
METHOD:PUBLISH
BEGIN:VEVENT
UID:20260419T155929UTC-1506vv72vH@https://www.ischiaeventi.it/
DTSTAMP:20260419T155929Z
DESCRIPTION:Spettacolo pirotecnico in onore di Santa Resttiuta https://www.
 ischiaeventi.it/eventi-ad-ischia/cultura/evento/29722-spettacolo-pirotecni
 co-in-occasione-di-santa-restituta
DTSTART:20240518T215800Z
DTEND:20240518T215900Z
LOCATION:Marina di Lacco Ameno (Via Litoranea\, Lacco Ameno NA\, Italia)
SUMMARY:Spettacolo pirotecnico in occasione di Santa Restituta
URL:https://www.ischiaeventi.it/eventi-ad-ischia/cultura/evento/29722-spett
 acolo-pirotecnico-in-occasione-di-santa-restituta
END:VEVENT
END:VCALENDAR
