BEGIN:VCALENDAR
VERSION:2.0
PRODID:-//https://www.ischiaeventi.it///NONSGML kigkonsult.se iCalcreator 2.10.15//
METHOD:PUBLISH
BEGIN:VEVENT
UID:20260419T155817UTC-4593u4lFbf@https://www.ischiaeventi.it/
DTSTAMP:20260419T155817Z
DESCRIPTION:Incontri Mediterranei: Neri per caso https://www.ischiaeventi.i
 t/eventi-ad-ischia/cultura/evento/31481-incontri-mediterranei-neri-per-cas
 o
DTSTART:20240725T193000Z
DTEND:20240725T213000Z
LOCATION:Piazza Santa Restituta  (Piazza Santa Restituta\, 80076 Lacco Amen
 o NA\, Italia)
SUMMARY:Incontri Mediterranei: Neri per caso
URL:https://www.ischiaeventi.it/eventi-ad-ischia/cultura/evento/31481-incon
 tri-mediterranei-neri-per-caso
END:VEVENT
END:VCALENDAR
