BEGIN:VCALENDAR
VERSION:2.0
PRODID:-//https://www.ischiaeventi.it///NONSGML kigkonsult.se iCalcreator 2.10.15//
METHOD:PUBLISH
BEGIN:VEVENT
UID:20260419T160408UTC-9155VW6nPW@https://www.ischiaeventi.it/
DTSTAMP:20260419T160408Z
DESCRIPTION:FUNK OFF STREET BANDImprovvisazioni di musica e follie https://
 www.ischiaeventi.it/eventi-ad-ischia/cultura/evento/32321-estate-insieme-l
 acco-ameno-funk-off-street-band
DTSTART:20240928T090000Z
DTEND:20240928T133000Z
LOCATION:Piazza Santa Restituta  (Piazza Santa Restituta\, 80076 Lacco Amen
 o NA\, Italia)
SUMMARY:Estate insieme Lacco Ameno: FUNK OFF STREET BAND
URL:https://www.ischiaeventi.it/eventi-ad-ischia/cultura/evento/32321-estat
 e-insieme-lacco-ameno-funk-off-street-band
END:VEVENT
END:VCALENDAR
