BEGIN:VCALENDAR
VERSION:2.0
PRODID:-//https://www.ischiaeventi.it///NONSGML kigkonsult.se iCalcreator 2.10.15//
METHOD:PUBLISH
BEGIN:VEVENT
UID:20260419T161806UTC-3761G6g1U4@https://www.ischiaeventi.it/
DTSTAMP:20260419T161806Z
DESCRIPTION:Presepi in Cammino percorsi presepiali\, artigianali e artistic
 i\, chiese e boutique https://www.ischiaeventi.it/eventi-ad-ischia/cultura
 /evento/38234-lacco-ameno-in-canti-di-natale-presepi-in-cammino
DTSTART;VALUE=DATE:20250107
LOCATION:Lacco Ameno (Piazza Santa Restituta\, 80076 Lacco Ameno NA\, Itali
 a)
SUMMARY:Lacco Ameno In-canti di Natale: presepi in cammino
URL:https://www.ischiaeventi.it/eventi-ad-ischia/cultura/evento/38234-lacco
 -ameno-in-canti-di-natale-presepi-in-cammino
END:VEVENT
END:VCALENDAR
