BEGIN:VCALENDAR
VERSION:2.0
PRODID:-//https://www.ischiaeventi.it///NONSGML kigkonsult.se iCalcreator 2.10.15//
METHOD:PUBLISH
BEGIN:VEVENT
UID:20260419T160730UTC-6734iPLxen@https://www.ischiaeventi.it/
DTSTAMP:20260419T160730Z
DESCRIPTION:Concerto degli alliavi dell'Accademia musicale “Note sul mare” 
 https://www.ischiaeventi.it/eventi-ad-ischia/cultura/evento/38237-lacco-am
 eno-in-canti-di-natale-christmas-concert-2024
DTSTART:20241215T173000Z
DTEND:20241215T193000Z
LOCATION:Sala consigliare Comune di Lacco Ameno (Piazza Santa Restituta 1\,
  80076 Lacco Ameno NA)
SUMMARY:Lacco Ameno In-canti di Natale:Christmas Concert 2024
URL:https://www.ischiaeventi.it/eventi-ad-ischia/cultura/evento/38237-lacco
 -ameno-in-canti-di-natale-christmas-concert-2024
END:VEVENT
END:VCALENDAR
