BEGIN:VCALENDAR
VERSION:2.0
PRODID:-//https://www.ischiaeventi.it///NONSGML kigkonsult.se iCalcreator 2.10.15//
METHOD:PUBLISH
BEGIN:VEVENT
UID:20260419T160154UTC-170253I7s9@https://www.ischiaeventi.it/
DTSTAMP:20260419T160154Z
DESCRIPTION:Sfilata musicale della Banda della Città di Ischia https://www.
 ischiaeventi.it/eventi-ad-ischia/cultura/evento/38245-lacco-ameno-in-canti
 -di-natale-fantasie-di-natale
DTSTART:20241225T100000Z
DTEND:20241225T120000Z
LOCATION:Piazza Capitello  (Piazza Salvatore Girardi\, 1\, 80076 Lacco Amen
 o NA\, Italia)
SUMMARY:Lacco Ameno In-canti di Natale: Fantasie di Natale
URL:https://www.ischiaeventi.it/eventi-ad-ischia/cultura/evento/38245-lacco
 -ameno-in-canti-di-natale-fantasie-di-natale
END:VEVENT
END:VCALENDAR
