BEGIN:VCALENDAR
VERSION:2.0
PRODID:-//https://www.ischiaeventi.it///NONSGML kigkonsult.se iCalcreator 2.10.15//
METHOD:PUBLISH
BEGIN:VEVENT
UID:20260419T160617UTC-72839Firc4@https://www.ischiaeventi.it/
DTSTAMP:20260419T160617Z
DESCRIPTION:Percorso archeologico\, architettonico e di cultura immateriale
  da Villa Arbusto e lungo il centro storico a cura della dott.ssa Mariange
 la Catuogno https://www.ischiaeventi.it/eventi-ad-ischia/cultura/evento/38
 249-lacco-ameno-in-canti-di-natale-natale-a-pithecusae-2024-2025-lacconart
 ---ti-porto-io
DTSTART:20241231T093000Z
DTEND:20241231T110000Z
LOCATION:Villa Arbusto (Corso Angelo Rizzoli\, 194\, 80076 Lacco Ameno NA\,
  Italia)
SUMMARY:Lacco Ameno In-canti di Natale: Natale a Pithecusae 2024- 2025 “Lac
 cOnArt — ti porto io
URL:https://www.ischiaeventi.it/eventi-ad-ischia/cultura/evento/38249-lacco
 -ameno-in-canti-di-natale-natale-a-pithecusae-2024-2025-lacconart---ti-por
 to-io
END:VEVENT
END:VCALENDAR
