BEGIN:VCALENDAR
VERSION:2.0
PRODID:-//https://www.ischiaeventi.it///NONSGML kigkonsult.se iCalcreator 2.10.15//
METHOD:PUBLISH
BEGIN:VEVENT
UID:20260419T155748UTC-9719dcV0pn@https://www.ischiaeventi.it/
DTSTAMP:20260419T155748Z
DESCRIPTION:Concerto: Stabat Mater di Salvatore Ronga con Lucianna De Falco
  https://www.ischiaeventi.it/eventi-ad-ischia/cultura/evento/68449-concert
 o-stabat-mater
DTSTART:20250415T183000Z
DTEND:20250415T200000Z
LOCATION:Basilica di Santa Restituta (Piazza San Restituta\, 1\, 80076 Lacc
 o Ameno NA\, Italia)
SUMMARY:Concerto: Stabat Mater
URL:https://www.ischiaeventi.it/eventi-ad-ischia/cultura/evento/68449-conce
 rto-stabat-mater
END:VEVENT
END:VCALENDAR
