BEGIN:VCALENDAR
VERSION:2.0
PRODID:-//https://www.ischiaeventi.it///NONSGML kigkonsult.se iCalcreator 2.10.15//
METHOD:PUBLISH
BEGIN:VEVENT
UID:20260423T024727UTC-26854bbNX2@https://www.ischiaeventi.it/
DTSTAMP:20260423T024727Z
DESCRIPTION:\nORARI SPETTACOLI: 19:00 - 21:30 Sala 1Titolo originale: Micha
 elUscita: USAGenere: Biografico\, musicale\, drammaticoRegia di:&nbsp\;Ant
 oine FuquaDurata: 127 minutiRatings: kids +13Cast:&nbsp\;Jaafar Jackson\, 
 Miles Teller\, Colman Domingo\, Nia Long\, Juliano Valdi\, Joe Gillette\, 
 Kat Graham\, Laura Harrier\, Larenz Tate\, Derek Luke\, Jessica Sula\, Ken
 drick Sampson\, Joseph David-Jones\nTRAMAMichael\, film diretto da Antoine
  Fuqua\, porta sullo schermo la storia\, la carriera e l’eredità di Michae
 l Jackson (Jaafar Jackson)\, una delle figure più iconiche e influenti del
 la storia della musica mondiale. Il film ripercorre tutta la sua vita\, da
 lle prime esibizioni da bambino nei Jackson 5\, passando per la dura disci
 plina e gli abusi subiti dal padre Joe Jackson (Colman Domingo)\, fino all
 ’ascesa fulminante che lo ha consacrato come Re del Pop. La narrazione esp
 lora la nascita del suo talento precoce e la sua trasformazione in un arti
 sta visionario\, animato da un’ambizione creativa inarrestabile e da una c
 ostante ricerca della perfezione. Dalle rivoluzionarie performance soliste
  degli anni Settanta ai record raggiunti con Thriller\, dall’acquisto dell
 a tenuta di Neverland alle sue iniziative di beneficenza\, il film mostra 
 Jackson sia come fenomeno globale sia come uomo\, gettando luce sulle comp
 lessità della sua vita privata. Attraverso incontri fondamentali con figur
 e chiave come Berry Gordy (Larenz Tate)\, Diana Ross (Kat Graham)\, Quincy
  Jones (Kendrick Sampson) e l’avvocato John Branca (Miles Teller)\, scopri
 amo il dietro le quinte della sua carriera e dei legami fondamentali. Il r
 acconto tocca anche i momenti più intimi\, tra la nascita dei figli e le s
 ue ultime settimane di vita\, culminate nella tragica e inaspettata scompa
 rsa del 25 giugno 2009. Un viaggio che permette al pubblico di vedere l’ar
 tista come mai prima d’ora\, celebrandone il talento straordinario e il se
 gno indelebile lasciato nella cultura pop mondiale.\n\n https://www.ischia
 eventi.it/eventi-ad-ischia/evento/249900-michael-2-spettacoli-sala-1
DTSTART:20260423T170000Z
DTEND:20260423T210000Z
LOCATION:Cinema Excelsior (Via Francesco Sogliuzzo\, 18\, 80077 Ischia NA\,
  Italia)
SUMMARY:Michael (2 spettacoli) Sala 1 
URL:https://www.ischiaeventi.it/eventi-ad-ischia/evento/249900-michael-2-sp
 ettacoli-sala-1
END:VEVENT
END:VCALENDAR
